BEGIN:VCALENDAR
PRODID:-//github.com/rianjs/ical.net//NONSGML ical.net 4.0//EN
VERSION:2.0
BEGIN:VTIMEZONE
TZID:Eastern Standard Time
X-LIC-LOCATION:America/New_York
BEGIN:STANDARD
DTSTART:20241103T020000
RRULE:FREQ=YEARLY;BYDAY=1SU;BYMONTH=11
TZNAME:EST
TZOFFSETFROM:-0400
TZOFFSETTO:-0500
END:STANDARD
BEGIN:DAYLIGHT
DTSTART:20250309T020000
RRULE:FREQ=YEARLY;BYDAY=2SU;BYMONTH=3
TZNAME:EDT
TZOFFSETFROM:-0500
TZOFFSETTO:-0400
END:DAYLIGHT
END:VTIMEZONE
BEGIN:VEVENT
DTEND;TZID=Eastern Standard Time:20260530T113000
DTSTAMP:20260421T231310Z
DTSTART;TZID=Eastern Standard Time:20260530T083000
LOCATION:Feeding South Florida Warehouse 2501 Southwest 32nd Terrace Pembr
 oke Park\, FL 33023-7707 United States
ORGANIZER;CN=;SENT-BY="mailto:":
SEQUENCE:0
SUMMARY:EB: Volunteer with Emerge Broward at Feeding South Florida '26
UID:13fb905e-b291-4ee6-bd96-fb36f4451f6b
END:VEVENT
END:VCALENDAR
